BEGIN:VCALENDAR
VERSION:2.0
PRODID:-//Intelligent Speech Conference - ECPv6.15.10//NONSGML v1.0//EN
CALSCALE:GREGORIAN
METHOD:PUBLISH
X-ORIGINAL-URL:https://www.intelligentspeechconference.com
X-WR-CALDESC:Events for Intelligent Speech Conference
REFRESH-INTERVAL;VALUE=DURATION:PT1H
X-Robots-Tag:noindex
X-PUBLISHED-TTL:PT1H
BEGIN:VTIMEZONE
TZID:America/New_York
BEGIN:DAYLIGHT
TZOFFSETFROM:-0500
TZOFFSETTO:-0400
TZNAME:EDT
DTSTART:20210314T070000
END:DAYLIGHT
BEGIN:STANDARD
TZOFFSETFROM:-0400
TZOFFSETTO:-0500
TZNAME:EST
DTSTART:20211107T060000
END:STANDARD
BEGIN:DAYLIGHT
TZOFFSETFROM:-0500
TZOFFSETTO:-0400
TZNAME:EDT
DTSTART:20220313T070000
END:DAYLIGHT
BEGIN:STANDARD
TZOFFSETFROM:-0400
TZOFFSETTO:-0500
TZNAME:EST
DTSTART:20221106T060000
END:STANDARD
BEGIN:DAYLIGHT
TZOFFSETFROM:-0500
TZOFFSETTO:-0400
TZNAME:EDT
DTSTART:20230312T070000
END:DAYLIGHT
BEGIN:STANDARD
TZOFFSETFROM:-0400
TZOFFSETTO:-0500
TZNAME:EST
DTSTART:20231105T060000
END:STANDARD
END:VTIMEZONE
BEGIN:VEVENT
DTSTART;TZID=America/New_York:20220625T100000
DTEND;TZID=America/New_York:20220625T200000
DTSTAMP:20260423T130504
CREATED:20220427T145057Z
LAST-MODIFIED:20220625T114716Z
UID:2663-1656151200-1656187200@www.intelligentspeechconference.com
SUMMARY:Intelligent Speech Summer 2022
DESCRIPTION:Intelligent Speech\, Saturday\, June 25th 10 am Eastern\, 7 am Pacific\, 3 pm London time. \nDon’t forget to add our event to your calendar using the links below. \nCheckout powered by PayPal or a one-time debit/credit card checkout.
URL:https://www.intelligentspeechconference.com/event/intelligent-speech-summer-2022/
ATTACH;FMTTYPE=image/png:https://www.intelligentspeechconference.com/wp-content/uploads/2022/02/intelligent-speech-conference.png
END:VEVENT
END:VCALENDAR